BEGIN:VCALENDAR
VERSION:2.0
CALSCALE:GREGORIAN
PRODID:-//Diputació de Barcelona//DibaCMS//EN
BEGIN:VEVENT
UID:5793
DTSTAMP:20260423T100423
DTSTART:20260429T171500
DTEND:20260429T190000
SUMMARY:Portes obertes escola bressol Els Ninots
LOCATION:c. Balmes, 2 08185 Lliçà de Vall
METHOD:PUBLISH
X-WR-CALNAME:llissadevall@llissadevall.cat
X-WR-TIMEZONE:Europe/Madrid
DESCRIPTION:Vine a conèixer el projecte del centre per al curs vinent!

URI:https://www.llissadevall.cat/actualitat/lagenda-web/5793-portes-obertes-escola-bressol-els-ninots.html
CLASS:PUBLIC
END:VEVENT
END:VCALENDAR
