BEGIN:VCALENDAR
VERSION:2.0
CALSCALE:GREGORIAN
PRODID:-//Diputació de Barcelona//DibaCMS//EN
BEGIN:VEVENT
UID:5340
DTSTAMP:20260422T154218
DTSTART:20250517T100000
DTEND:20250517T130000
SUMMARY:Jornades "Tenim tots els motius per seguir explicant contes"
LOCATION:Passeig de l'Església, 1 08185 Lliçà de Vall
METHOD:PUBLISH
X-WR-CALNAME:llissadevall@llissadevall.cat
X-WR-TIMEZONE:Europe/Madrid
DESCRIPTION:Jornada interprofessional de literatura oral com a motor de recuperació de la memòria col·lectiva

URI:https://www.llissadevall.cat/actualitat/lagenda-web/jornades-tenim-tots-els-motius-per-seguir-explicant-contes.html
CLASS:PUBLIC
END:VEVENT
END:VCALENDAR
