BEGIN:VCALENDAR
VERSION:2.0
CALSCALE:GREGORIAN
PRODID:-//Diputació de Barcelona//DibaCMS//EN
BEGIN:VEVENT
UID:5323
DTSTAMP:20260422T141200
DTSTART:20250516T090000
DTEND:20250518T140000
SUMMARY:Festival Contes per a Tothom 2025
LOCATION:
METHOD:PUBLISH
X-WR-CALNAME:llissadevall@llissadevall.cat
X-WR-TIMEZONE:Europe/Madrid
DESCRIPTION: 

El festival de la paraula, de la fantasia i del plaer d'escoltar històries i rondalles de viva veu a càrrec de narradors i narradores professionals. Una proposta per a cada edat, per a petits i grans. Un municipi que és lector dona protagonisme a la memòria i la veu, al ritme i l’oralitat.

URI:https://www.llissadevall.cat/actualitat/lagenda-web/festival-contes-per-a-tothom-2025.html
CLASS:PUBLIC
END:VEVENT
END:VCALENDAR
